BEGIN:VCALENDAR
VERSION:2.0
PRODID:-//Flemington DIY - ECPv6.15.20//NONSGML v1.0//EN
CALSCALE:GREGORIAN
METHOD:PUBLISH
X-ORIGINAL-URL:https://www.flemingtondiy.org
X-WR-CALDESC:Events for Flemington DIY
REFRESH-INTERVAL;VALUE=DURATION:PT1H
X-Robots-Tag:noindex
X-PUBLISHED-TTL:PT1H
BEGIN:VTIMEZONE
TZID:America/New_York
BEGIN:DAYLIGHT
TZOFFSETFROM:-0500
TZOFFSETTO:-0400
TZNAME:EDT
DTSTART:20230312T070000
END:DAYLIGHT
BEGIN:STANDARD
TZOFFSETFROM:-0400
TZOFFSETTO:-0500
TZNAME:EST
DTSTART:20231105T060000
END:STANDARD
BEGIN:DAYLIGHT
TZOFFSETFROM:-0500
TZOFFSETTO:-0400
TZNAME:EDT
DTSTART:20240310T070000
END:DAYLIGHT
BEGIN:STANDARD
TZOFFSETFROM:-0400
TZOFFSETTO:-0500
TZNAME:EST
DTSTART:20241103T060000
END:STANDARD
BEGIN:DAYLIGHT
TZOFFSETFROM:-0500
TZOFFSETTO:-0400
TZNAME:EDT
DTSTART:20250309T070000
END:DAYLIGHT
BEGIN:STANDARD
TZOFFSETFROM:-0400
TZOFFSETTO:-0500
TZNAME:EST
DTSTART:20251102T060000
END:STANDARD
END:VTIMEZONE
BEGIN:VEVENT
DTSTART;TZID=America/New_York:20240518T090000
DTEND;TZID=America/New_York:20240518T110000
DTSTAMP:20260425T101553
CREATED:20240325T202117Z
LAST-MODIFIED:20240517T233559Z
UID:10002191-1716022800-1716030000@www.flemingtondiy.org
SUMMARY:Music Together
DESCRIPTION:Every week in our music classes at Music Together Flemington\, babies\, toddlers\, preschoolers\, and the grownups who love them come together for a time of musical play. Little ones love playing along in class\, and caregivers love being a part of their children’s growth into confident music-makers. And everyone loves our songs that’ll have you tapping along in no time \nLearn more and enroll today: https://www.musictogetherflemington.com/
URL:https://www.flemingtondiy.org/event/music-together-217/
END:VEVENT
BEGIN:VEVENT
DTSTART;TZID=America/New_York:20240518T183000
DTEND;TZID=America/New_York:20240518T230000
DTSTAMP:20260425T101553
CREATED:20240325T202117Z
LAST-MODIFIED:20240518T233600Z
UID:10002192-1716057000-1716073200@www.flemingtondiy.org
SUMMARY:Celebrating a Decade of DIY!
DESCRIPTION:with performances from: \nBODEGA (NYC)arty post-punk new wavers LISTEN \nChris GethardNJ comedy legend & cult leader MORE \nShalomindie pop outfit LISTEN \nClassic Trafficpower pop punkers LISTEN \n$20 advance // $25 at the door (Limited tickets available)Pre-sale only available until 10am day of show6:30pm doors // 7:30pm musicAll ages // No alcohol inside \nGET TICKETS \n+ plus a tattoo flash sheet at Diamond Heart\, a “Decadent Decade IPA” at Lone Eagle Brewing\, and the unveiling of our new art machine!
URL:https://www.flemingtondiy.org/event/celebrating-a-decade-of-diy/
END:VEVENT
END:VCALENDAR