BEGIN:VCALENDAR
VERSION:2.0
PRODID:-//Flemington DIY - ECPv6.15.20//NONSGML v1.0//EN
CALSCALE:GREGORIAN
METHOD:PUBLISH
X-ORIGINAL-URL:https://www.flemingtondiy.org
X-WR-CALDESC:Events for Flemington DIY
REFRESH-INTERVAL;VALUE=DURATION:PT1H
X-Robots-Tag:noindex
X-PUBLISHED-TTL:PT1H
BEGIN:VTIMEZONE
TZID:America/New_York
BEGIN:DAYLIGHT
TZOFFSETFROM:-0500
TZOFFSETTO:-0400
TZNAME:EDT
DTSTART:20230312T070000
END:DAYLIGHT
BEGIN:STANDARD
TZOFFSETFROM:-0400
TZOFFSETTO:-0500
TZNAME:EST
DTSTART:20231105T060000
END:STANDARD
BEGIN:DAYLIGHT
TZOFFSETFROM:-0500
TZOFFSETTO:-0400
TZNAME:EDT
DTSTART:20240310T070000
END:DAYLIGHT
BEGIN:STANDARD
TZOFFSETFROM:-0400
TZOFFSETTO:-0500
TZNAME:EST
DTSTART:20241103T060000
END:STANDARD
BEGIN:DAYLIGHT
TZOFFSETFROM:-0500
TZOFFSETTO:-0400
TZNAME:EDT
DTSTART:20250309T070000
END:DAYLIGHT
BEGIN:STANDARD
TZOFFSETFROM:-0400
TZOFFSETTO:-0500
TZNAME:EST
DTSTART:20251102T060000
END:STANDARD
END:VTIMEZONE
BEGIN:VEVENT
DTSTART;TZID=America/New_York:20240505T090000
DTEND;TZID=America/New_York:20240505T103000
DTSTAMP:20260425T101554
CREATED:20240229T180524Z
LAST-MODIFIED:20240429T230552Z
UID:10002138-1714899600-1714905000@www.flemingtondiy.org
SUMMARY:Recreating the Women's Circle
DESCRIPTION:Come experience the power of a women’s circle through stories\, art\, music\, journaling and movement.  We will use classic tales from Clarissa Pinkola Estes’ NY Times Best Seller:  ‘Women Who Run With the Wolves’ to explore\, discover and experience our true nature and the journey of women in today’s culture and throughout the ages.   \nRegister now!  Space is limited. \nhttps://form.jotform.com/240586211869059 \nOpen to women in all stages of life and anyone who identifies as a women. \nFacilitator/Ambassador of Naughtiness: Lisa DeMuro \nSession 1 4/14:  Introduction:  The Howl:  The Resurrection of the Wild Woman– Who is she?  How did she become endangered?  Why does she need to be resurrected and protected?Session 2 4/21:  Predator vs. Prey:  Naive Women and Initiation:  Rites of Passage that Prepare Us for the Real WorldSession 3 4/28:  Nosing out the Facts:  Finding and Fine Tuning our Intuition and Using it to Inform the JourneySession 4 5/5:  Marking Territory:  Setting Boundaries:  Exploring Rage\, Righteous Rage\, and Forgiveness \nQuestions:  \n1.Do participants need a copy of the book?  Participants do not need a copy of the book\, but may purchase a hardcopy if they desire.   \n2. Which sessions should I sign up for?Participants should plan on attending the first session\, and as many of the remaining 3 as possible.
URL:https://www.flemingtondiy.org/event/recreating-the-womens-circle-4/
END:VEVENT
BEGIN:VEVENT
DTSTART;TZID=America/New_York:20240505T190000
DTEND;TZID=America/New_York:20240505T220000
DTSTAMP:20260425T101554
CREATED:20231124T022022Z
LAST-MODIFIED:20240429T230552Z
UID:10001911-1714935600-1714946400@www.flemingtondiy.org
SUMMARY:Live Music
DESCRIPTION:Scary Spies\n(Pop / RnB)\nKC Raniero\n(Gothic RnB)\nJimmy Velour\n(Electronic Pop/Synth Pop)\n$10-15 donation\nDoors @ 7pm\nNo Drugs/Alcohol\nAll Ages
URL:https://www.flemingtondiy.org/event/live-music-39/
END:VEVENT
END:VCALENDAR