BEGIN:VCALENDAR
VERSION:2.0
PRODID:-//Flemington DIY - ECPv6.15.20//NONSGML v1.0//EN
CALSCALE:GREGORIAN
METHOD:PUBLISH
X-WR-CALNAME:Flemington DIY
X-ORIGINAL-URL:https://www.flemingtondiy.org
X-WR-CALDESC:Events for Flemington DIY
REFRESH-INTERVAL;VALUE=DURATION:PT1H
X-Robots-Tag:noindex
X-PUBLISHED-TTL:PT1H
BEGIN:VTIMEZONE
TZID:America/New_York
BEGIN:DAYLIGHT
TZOFFSETFROM:-0500
TZOFFSETTO:-0400
TZNAME:EDT
DTSTART:20230312T070000
END:DAYLIGHT
BEGIN:STANDARD
TZOFFSETFROM:-0400
TZOFFSETTO:-0500
TZNAME:EST
DTSTART:20231105T060000
END:STANDARD
BEGIN:DAYLIGHT
TZOFFSETFROM:-0500
TZOFFSETTO:-0400
TZNAME:EDT
DTSTART:20240310T070000
END:DAYLIGHT
BEGIN:STANDARD
TZOFFSETFROM:-0400
TZOFFSETTO:-0500
TZNAME:EST
DTSTART:20241103T060000
END:STANDARD
BEGIN:DAYLIGHT
TZOFFSETFROM:-0500
TZOFFSETTO:-0400
TZNAME:EDT
DTSTART:20250309T070000
END:DAYLIGHT
BEGIN:STANDARD
TZOFFSETFROM:-0400
TZOFFSETTO:-0500
TZNAME:EST
DTSTART:20251102T060000
END:STANDARD
END:VTIMEZONE
BEGIN:VEVENT
DTSTART;TZID=America/New_York:20240502T113000
DTEND;TZID=America/New_York:20240502T180000
DTSTAMP:20260425T101600
CREATED:20240103T045025Z
LAST-MODIFIED:20240429T230552Z
UID:10001987-1714649400-1714672800@www.flemingtondiy.org
SUMMARY:Open Hours
DESCRIPTION:Visit the space\, see our current art show\, hang out\, and learn how to get involved!
URL:https://www.flemingtondiy.org/event/open-hours-82/
END:VEVENT
BEGIN:VEVENT
DTSTART;TZID=America/New_York:20240502T193000
DTEND;TZID=America/New_York:20240502T203000
DTSTAMP:20260425T101600
CREATED:20240329T202021Z
LAST-MODIFIED:20240429T230552Z
UID:10002216-1714678200-1714681800@www.flemingtondiy.org
SUMMARY:Screen Print a Hi-Viz Safety Vest
DESCRIPTION:Do you walk\, bike\, or roll in Hunterdon County? Stay safe by wearing a hi-viz vest with a reminder of the NJ 4-foot passing law screenprinted on the back!  \nIn collaboration with The Street Project film screening hosted on April 27 (Lambertville): Flemington DIY invites you to our studio to screenprint a hi-viz safety vest!  \nBring your own safety vest\, or use one of ours (while supplies last).  \nPlease register here: https://form.jotform.com/240885628550060
URL:https://www.flemingtondiy.org/event/screen-print-a-hi-viz-safety-vest/
END:VEVENT
END:VCALENDAR