BEGIN:VCALENDAR
VERSION:2.0
PRODID:-//Flemington DIY - ECPv6.15.20//NONSGML v1.0//EN
CALSCALE:GREGORIAN
METHOD:PUBLISH
X-ORIGINAL-URL:https://www.flemingtondiy.org
X-WR-CALDESC:Events for Flemington DIY
REFRESH-INTERVAL;VALUE=DURATION:PT1H
X-Robots-Tag:noindex
X-PUBLISHED-TTL:PT1H
BEGIN:VTIMEZONE
TZID:America/New_York
BEGIN:DAYLIGHT
TZOFFSETFROM:-0500
TZOFFSETTO:-0400
TZNAME:EDT
DTSTART:20230312T070000
END:DAYLIGHT
BEGIN:STANDARD
TZOFFSETFROM:-0400
TZOFFSETTO:-0500
TZNAME:EST
DTSTART:20231105T060000
END:STANDARD
BEGIN:DAYLIGHT
TZOFFSETFROM:-0500
TZOFFSETTO:-0400
TZNAME:EDT
DTSTART:20240310T070000
END:DAYLIGHT
BEGIN:STANDARD
TZOFFSETFROM:-0400
TZOFFSETTO:-0500
TZNAME:EST
DTSTART:20241103T060000
END:STANDARD
BEGIN:DAYLIGHT
TZOFFSETFROM:-0500
TZOFFSETTO:-0400
TZNAME:EDT
DTSTART:20250309T070000
END:DAYLIGHT
BEGIN:STANDARD
TZOFFSETFROM:-0400
TZOFFSETTO:-0500
TZNAME:EST
DTSTART:20251102T060000
END:STANDARD
END:VTIMEZONE
BEGIN:VEVENT
DTSTART;VALUE=DATE:20240401
DTEND;VALUE=DATE:20240501
DTSTAMP:20260425T091246
CREATED:20240403T203608Z
LAST-MODIFIED:20240429T230551Z
UID:10002223-1711929600-1714521599@www.flemingtondiy.org
SUMMARY:April Art Shows
DESCRIPTION:3 Shows // 4 Artists \n\n\nRelationships: An Installation Between Light and Sound by Evan Schlomann\nDots & Lines: A Mother-Daughter Exhibit\nThe Shadow Almadel: The Esoteric Photography of Justin Mank\n\n\nLearn more: flemingtondiy.org/april-art-shows
URL:https://www.flemingtondiy.org/event/april-art-shows/
END:VEVENT
BEGIN:VEVENT
DTSTART;TZID=America/New_York:20240429T091500
DTEND;TZID=America/New_York:20240429T113000
DTSTAMP:20260425T091246
CREATED:20240325T202112Z
LAST-MODIFIED:20240428T230548Z
UID:10002177-1714382100-1714390200@www.flemingtondiy.org
SUMMARY:Music Together
DESCRIPTION:Every week in our music classes at Music Together Flemington\, babies\, toddlers\, preschoolers\, and the grownups who love them come together for a time of musical play. Little ones love playing along in class\, and caregivers love being a part of their children’s growth into confident music-makers. And everyone loves our songs that’ll have you tapping along in no time \nLearn more and enroll today: https://www.musictogetherflemington.com/
URL:https://www.flemingtondiy.org/event/music-together-200/
END:VEVENT
BEGIN:VEVENT
DTSTART;TZID=America/New_York:20240429T180000
DTEND;TZID=America/New_York:20240429T210000
DTSTAMP:20260425T091246
CREATED:20231107T010547Z
LAST-MODIFIED:20240429T230552Z
UID:10001816-1714413600-1714424400@www.flemingtondiy.org
SUMMARY:Print Club
DESCRIPTION:Flemington DIY Print Club is a weekly open studio held from 6-9PM every Monday\, $15-30 per printer. It provides an opportunity for local artists and community members new to arts processes to utilize shared printmaking facilities. Print Club provides a platform for artists to network\, build community\, and work collaboratively. \nNo experience? No problem! Our vounteers will guide you through the process from start to finish! \nLearn more: https://www.flemingtondiy.org/printclub/
URL:https://www.flemingtondiy.org/event/print-club-178/
END:VEVENT
BEGIN:VEVENT
DTSTART;TZID=America/New_York:20240429T193000
DTEND;TZID=America/New_York:20240429T203000
DTSTAMP:20260425T091246
CREATED:20240410T212023Z
LAST-MODIFIED:20240429T230552Z
UID:10002242-1714419000-1714422600@www.flemingtondiy.org
SUMMARY:Art Circle - General Meeting on Zoom
DESCRIPTION:Registration Required:https://us02web.zoom.us/meeting/register/tZ0tfuGtrTsjGtSL-3doioSCUvwkAr1EMMo3
URL:https://www.flemingtondiy.org/event/art-circle-general-meeting-on-zoom/
END:VEVENT
END:VCALENDAR