BEGIN:VCALENDAR
VERSION:2.0
PRODID:-//Flemington DIY - ECPv6.15.20//NONSGML v1.0//EN
CALSCALE:GREGORIAN
METHOD:PUBLISH
X-ORIGINAL-URL:https://www.flemingtondiy.org
X-WR-CALDESC:Events for Flemington DIY
REFRESH-INTERVAL;VALUE=DURATION:PT1H
X-Robots-Tag:noindex
X-PUBLISHED-TTL:PT1H
BEGIN:VTIMEZONE
TZID:America/New_York
BEGIN:DAYLIGHT
TZOFFSETFROM:-0500
TZOFFSETTO:-0400
TZNAME:EDT
DTSTART:20230312T070000
END:DAYLIGHT
BEGIN:STANDARD
TZOFFSETFROM:-0400
TZOFFSETTO:-0500
TZNAME:EST
DTSTART:20231105T060000
END:STANDARD
BEGIN:DAYLIGHT
TZOFFSETFROM:-0500
TZOFFSETTO:-0400
TZNAME:EDT
DTSTART:20240310T070000
END:DAYLIGHT
BEGIN:STANDARD
TZOFFSETFROM:-0400
TZOFFSETTO:-0500
TZNAME:EST
DTSTART:20241103T060000
END:STANDARD
BEGIN:DAYLIGHT
TZOFFSETFROM:-0500
TZOFFSETTO:-0400
TZNAME:EDT
DTSTART:20250309T070000
END:DAYLIGHT
BEGIN:STANDARD
TZOFFSETFROM:-0400
TZOFFSETTO:-0500
TZNAME:EST
DTSTART:20251102T060000
END:STANDARD
END:VTIMEZONE
BEGIN:VEVENT
DTSTART;VALUE=DATE:20240401
DTEND;VALUE=DATE:20240501
DTSTAMP:20260425T102711
CREATED:20240403T203608Z
LAST-MODIFIED:20240429T230551Z
UID:10002223-1711929600-1714521599@www.flemingtondiy.org
SUMMARY:April Art Shows
DESCRIPTION:3 Shows // 4 Artists \n\n\nRelationships: An Installation Between Light and Sound by Evan Schlomann\nDots & Lines: A Mother-Daughter Exhibit\nThe Shadow Almadel: The Esoteric Photography of Justin Mank\n\n\nLearn more: flemingtondiy.org/april-art-shows
URL:https://www.flemingtondiy.org/event/april-art-shows/
END:VEVENT
BEGIN:VEVENT
DTSTART;TZID=America/New_York:20240427T090000
DTEND;TZID=America/New_York:20240427T110000
DTSTAMP:20260425T102711
CREATED:20240325T202112Z
LAST-MODIFIED:20240426T225013Z
UID:10002175-1714208400-1714215600@www.flemingtondiy.org
SUMMARY:Music Together
DESCRIPTION:Every week in our music classes at Music Together Flemington\, babies\, toddlers\, preschoolers\, and the grownups who love them come together for a time of musical play. Little ones love playing along in class\, and caregivers love being a part of their children’s growth into confident music-makers. And everyone loves our songs that’ll have you tapping along in no time \nLearn more and enroll today: https://www.musictogetherflemington.com/
URL:https://www.flemingtondiy.org/event/music-together-198/
END:VEVENT
BEGIN:VEVENT
DTSTART;TZID=America/New_York:20240427T090000
DTEND;TZID=America/New_York:20240427T120000
DTSTAMP:20260425T102711
CREATED:20240325T202112Z
LAST-MODIFIED:20240426T225013Z
UID:10002176-1714208400-1714219200@www.flemingtondiy.org
SUMMARY:Music Together
DESCRIPTION:Every week in our music classes at Music Together Flemington\, babies\, toddlers\, preschoolers\, and the grownups who love them come together for a time of musical play. Little ones love playing along in class\, and caregivers love being a part of their children’s growth into confident music-makers. And everyone loves our songs that’ll have you tapping along in no time \nLearn more and enroll today: https://www.musictogetherflemington.com/
URL:https://www.flemingtondiy.org/event/music-together-199/
END:VEVENT
BEGIN:VEVENT
DTSTART;TZID=America/New_York:20240427T110000
DTEND;TZID=America/New_York:20240427T130000
DTSTAMP:20260425T102711
CREATED:20240329T202020Z
LAST-MODIFIED:20240426T225013Z
UID:10002215-1714215600-1714222800@www.flemingtondiy.org
SUMMARY:The Street Project Screening: HOSTED IN LAMBERTVILLE
DESCRIPTION:Film Screening & Community Conversations: The Street Project \nDocumentary film  and conversation about street safety & transportation in the greater Lambertville area. This event is free and all are welcome.  \nClosed captioning will be provided in Spanish.  \nRSVP: bit.ly/tsplambertville \nApril 27\, 2024 / 11am-1pm.  \nPhilip L. Pittore Justice Center  \n25 S. Union Street\, Lambertville NJ \nSponsored by:  \nLambertville Environmental Commission\, Free Bridge Mutual Aid\, Bike Lambertville\, Flemington DIY
URL:https://www.flemingtondiy.org/event/the-street-project-screening-hosted-in-lambertville/
END:VEVENT
BEGIN:VEVENT
DTSTART;TZID=America/New_York:20240427T120000
DTEND;TZID=America/New_York:20240427T150000
DTSTAMP:20260425T102711
CREATED:20240403T203615Z
LAST-MODIFIED:20240426T225014Z
UID:10002232-1714219200-1714230000@www.flemingtondiy.org
SUMMARY:Gallery Open Hours
DESCRIPTION:Stop by and view the 3 April art shows on display! \nMore info: flemingtondiy.org/april-art-shows
URL:https://www.flemingtondiy.org/event/gallery-open-hours-2/
END:VEVENT
BEGIN:VEVENT
DTSTART;TZID=America/New_York:20240427T173000
DTEND;TZID=America/New_York:20240427T190000
DTSTAMP:20260425T102711
CREATED:20240331T202132Z
LAST-MODIFIED:20240427T225105Z
UID:10002219-1714239000-1714244400@www.flemingtondiy.org
SUMMARY:Storytelling Arts presents: Untold Stories of Storied People
DESCRIPTION:
URL:https://www.flemingtondiy.org/event/storytelling-arts-presents-untold-stories-of-storied-people/
END:VEVENT
END:VCALENDAR