BEGIN:VCALENDAR
VERSION:2.0
PRODID:-//Flemington DIY - ECPv6.15.20//NONSGML v1.0//EN
CALSCALE:GREGORIAN
METHOD:PUBLISH
X-ORIGINAL-URL:https://www.flemingtondiy.org
X-WR-CALDESC:Events for Flemington DIY
REFRESH-INTERVAL;VALUE=DURATION:PT1H
X-Robots-Tag:noindex
X-PUBLISHED-TTL:PT1H
BEGIN:VTIMEZONE
TZID:America/New_York
BEGIN:DAYLIGHT
TZOFFSETFROM:-0500
TZOFFSETTO:-0400
TZNAME:EDT
DTSTART:20230312T070000
END:DAYLIGHT
BEGIN:STANDARD
TZOFFSETFROM:-0400
TZOFFSETTO:-0500
TZNAME:EST
DTSTART:20231105T060000
END:STANDARD
BEGIN:DAYLIGHT
TZOFFSETFROM:-0500
TZOFFSETTO:-0400
TZNAME:EDT
DTSTART:20240310T070000
END:DAYLIGHT
BEGIN:STANDARD
TZOFFSETFROM:-0400
TZOFFSETTO:-0500
TZNAME:EST
DTSTART:20241103T060000
END:STANDARD
BEGIN:DAYLIGHT
TZOFFSETFROM:-0500
TZOFFSETTO:-0400
TZNAME:EDT
DTSTART:20250309T070000
END:DAYLIGHT
BEGIN:STANDARD
TZOFFSETFROM:-0400
TZOFFSETTO:-0500
TZNAME:EST
DTSTART:20251102T060000
END:STANDARD
END:VTIMEZONE
BEGIN:VEVENT
DTSTART;VALUE=DATE:20240401
DTEND;VALUE=DATE:20240501
DTSTAMP:20260425T102713
CREATED:20240403T203608Z
LAST-MODIFIED:20240429T230551Z
UID:10002223-1711929600-1714521599@www.flemingtondiy.org
SUMMARY:April Art Shows
DESCRIPTION:3 Shows // 4 Artists \n\n\nRelationships: An Installation Between Light and Sound by Evan Schlomann\nDots & Lines: A Mother-Daughter Exhibit\nThe Shadow Almadel: The Esoteric Photography of Justin Mank\n\n\nLearn more: flemingtondiy.org/april-art-shows
URL:https://www.flemingtondiy.org/event/april-art-shows/
END:VEVENT
BEGIN:VEVENT
DTSTART;VALUE=DATE:20240425
DTEND;VALUE=DATE:20240426
DTSTAMP:20260425T102713
CREATED:20240403T203614Z
LAST-MODIFIED:20240425T225120Z
UID:10002231-1714003200-1714089599@www.flemingtondiy.org
SUMMARY:RELATIONSHIPS Installation - Viewable
DESCRIPTION:Stop by during this day while there are programs happening to view Relationships: An Installation Between Light and Sound by Evan Schlomann \nMore info: flemingtondiy.org/relationships
URL:https://www.flemingtondiy.org/event/relationships-installation-viewable-10/
END:VEVENT
BEGIN:VEVENT
DTSTART;TZID=America/New_York:20240425T113000
DTEND;TZID=America/New_York:20240425T180000
DTSTAMP:20260425T102713
CREATED:20240103T045024Z
LAST-MODIFIED:20240424T225035Z
UID:10001986-1714044600-1714068000@www.flemingtondiy.org
SUMMARY:Open Hours
DESCRIPTION:Visit the space\, see our current art show\, hang out\, and learn how to get involved!
URL:https://www.flemingtondiy.org/event/open-hours-81/
END:VEVENT
BEGIN:VEVENT
DTSTART;TZID=America/New_York:20240425T180000
DTEND;TZID=America/New_York:20240425T210000
DTSTAMP:20260425T102713
CREATED:20240404T205022Z
LAST-MODIFIED:20240425T225120Z
UID:10002235-1714068000-1714078800@www.flemingtondiy.org
SUMMARY:‘Reefer Madness’ Free Screening & Seminar with Aunt Mary’s Dispensary
DESCRIPTION:Join Aunt Mary’s for an enlightening seminar that journeys from the sensational myths of “Reefer Madness” to the modern-day recreational and therapeutic uses of cannabis\, highlighting the science behind cannabinoids and the vibrant world of terpenes. Discover the blend of pleasure and wellness that cannabis offers in today’s enlightened era.\nThis event is 21+
URL:https://www.flemingtondiy.org/event/reefer-madness-free-screening-seminar-with-aunt-marys-dispensary/
END:VEVENT
END:VCALENDAR