BEGIN:VCALENDAR
VERSION:2.0
PRODID:-//Flemington DIY - ECPv6.15.20//NONSGML v1.0//EN
CALSCALE:GREGORIAN
METHOD:PUBLISH
X-ORIGINAL-URL:https://www.flemingtondiy.org
X-WR-CALDESC:Events for Flemington DIY
REFRESH-INTERVAL;VALUE=DURATION:PT1H
X-Robots-Tag:noindex
X-PUBLISHED-TTL:PT1H
BEGIN:VTIMEZONE
TZID:America/New_York
BEGIN:DAYLIGHT
TZOFFSETFROM:-0500
TZOFFSETTO:-0400
TZNAME:EDT
DTSTART:20230312T070000
END:DAYLIGHT
BEGIN:STANDARD
TZOFFSETFROM:-0400
TZOFFSETTO:-0500
TZNAME:EST
DTSTART:20231105T060000
END:STANDARD
BEGIN:DAYLIGHT
TZOFFSETFROM:-0500
TZOFFSETTO:-0400
TZNAME:EDT
DTSTART:20240310T070000
END:DAYLIGHT
BEGIN:STANDARD
TZOFFSETFROM:-0400
TZOFFSETTO:-0500
TZNAME:EST
DTSTART:20241103T060000
END:STANDARD
BEGIN:DAYLIGHT
TZOFFSETFROM:-0500
TZOFFSETTO:-0400
TZNAME:EDT
DTSTART:20250309T070000
END:DAYLIGHT
BEGIN:STANDARD
TZOFFSETFROM:-0400
TZOFFSETTO:-0500
TZNAME:EST
DTSTART:20251102T060000
END:STANDARD
END:VTIMEZONE
BEGIN:VEVENT
DTSTART;VALUE=DATE:20240401
DTEND;VALUE=DATE:20240501
DTSTAMP:20260425T102713
CREATED:20240403T203608Z
LAST-MODIFIED:20240429T230551Z
UID:10002223-1711929600-1714521599@www.flemingtondiy.org
SUMMARY:April Art Shows
DESCRIPTION:3 Shows // 4 Artists \n\n\nRelationships: An Installation Between Light and Sound by Evan Schlomann\nDots & Lines: A Mother-Daughter Exhibit\nThe Shadow Almadel: The Esoteric Photography of Justin Mank\n\n\nLearn more: flemingtondiy.org/april-art-shows
URL:https://www.flemingtondiy.org/event/april-art-shows/
END:VEVENT
BEGIN:VEVENT
DTSTART;TZID=America/New_York:20240424T094500
DTEND;TZID=America/New_York:20240424T120000
DTSTAMP:20260425T102713
CREATED:20240325T202111Z
LAST-MODIFIED:20240423T223555Z
UID:10002172-1713951900-1713960000@www.flemingtondiy.org
SUMMARY:Music Together
DESCRIPTION:Every week in our music classes at Music Together Flemington\, babies\, toddlers\, preschoolers\, and the grownups who love them come together for a time of musical play. Little ones love playing along in class\, and caregivers love being a part of their children’s growth into confident music-makers. And everyone loves our songs that’ll have you tapping along in no time \nLearn more and enroll today: https://www.musictogetherflemington.com/
URL:https://www.flemingtondiy.org/event/music-together-194/
END:VEVENT
BEGIN:VEVENT
DTSTART;TZID=America/New_York:20240424T161500
DTEND;TZID=America/New_York:20240424T171500
DTSTAMP:20260425T102713
CREATED:20240325T202111Z
LAST-MODIFIED:20240423T223555Z
UID:10002173-1713975300-1713978900@www.flemingtondiy.org
SUMMARY:Music Together
DESCRIPTION:Every week in our music classes at Music Together Flemington\, babies\, toddlers\, preschoolers\, and the grownups who love them come together for a time of musical play. Little ones love playing along in class\, and caregivers love being a part of their children’s growth into confident music-makers. And everyone loves our songs that’ll have you tapping along in no time \nLearn more and enroll today: https://www.musictogetherflemington.com/
URL:https://www.flemingtondiy.org/event/music-together-195/
END:VEVENT
BEGIN:VEVENT
DTSTART;TZID=America/New_York:20240424T193000
DTEND;TZID=America/New_York:20240424T213000
DTSTAMP:20260425T102713
CREATED:20231101T010513Z
LAST-MODIFIED:20240424T225036Z
UID:10001666-1713987000-1713994200@www.flemingtondiy.org
SUMMARY:Poetry Open Mic
DESCRIPTION:show up & sign up\ndonations at the door\nall ages
URL:https://www.flemingtondiy.org/event/poetry-open-mic-21/
END:VEVENT
END:VCALENDAR