BEGIN:VCALENDAR
VERSION:2.0
PRODID:-//Flemington DIY - ECPv6.15.20//NONSGML v1.0//EN
CALSCALE:GREGORIAN
METHOD:PUBLISH
X-ORIGINAL-URL:https://www.flemingtondiy.org
X-WR-CALDESC:Events for Flemington DIY
REFRESH-INTERVAL;VALUE=DURATION:PT1H
X-Robots-Tag:noindex
X-PUBLISHED-TTL:PT1H
BEGIN:VTIMEZONE
TZID:America/New_York
BEGIN:DAYLIGHT
TZOFFSETFROM:-0500
TZOFFSETTO:-0400
TZNAME:EDT
DTSTART:20230312T070000
END:DAYLIGHT
BEGIN:STANDARD
TZOFFSETFROM:-0400
TZOFFSETTO:-0500
TZNAME:EST
DTSTART:20231105T060000
END:STANDARD
BEGIN:DAYLIGHT
TZOFFSETFROM:-0500
TZOFFSETTO:-0400
TZNAME:EDT
DTSTART:20240310T070000
END:DAYLIGHT
BEGIN:STANDARD
TZOFFSETFROM:-0400
TZOFFSETTO:-0500
TZNAME:EST
DTSTART:20241103T060000
END:STANDARD
BEGIN:DAYLIGHT
TZOFFSETFROM:-0500
TZOFFSETTO:-0400
TZNAME:EDT
DTSTART:20250309T070000
END:DAYLIGHT
BEGIN:STANDARD
TZOFFSETFROM:-0400
TZOFFSETTO:-0500
TZNAME:EST
DTSTART:20251102T060000
END:STANDARD
END:VTIMEZONE
BEGIN:VEVENT
DTSTART;TZID=America/New_York:20240309T090000
DTEND;TZID=America/New_York:20240309T120000
DTSTAMP:20260425T135946
CREATED:20240123T060511Z
LAST-MODIFIED:20240308T190625Z
UID:10002076-1709974800-1709985600@www.flemingtondiy.org
SUMMARY:Music Together
DESCRIPTION:Every week in our music classes at Music Together Flemington\, babies\, toddlers\, preschoolers\, and the grownups who love them come together for a time of musical play. Little ones love playing along in class\, and caregivers love being a part of their children’s growth into confident music-makers. And everyone loves our songs that’ll have you tapping along in no time \nLearn more and enroll today:https://www.musictogetherflemington.com/ \nJoin with Google Meet: https://meet.google.com/dqb-gpwt-ohj\nLearn more about Meet at: https://support.google.com/a/users/answer/9282720
URL:https://www.flemingtondiy.org/event/music-together-165/
ORGANIZER;CN="9a724c6862e16b0fceb2c03b11d6495f66823883e568255978d51ff40b7ff5af@group.calendar.google.com":MAILTO:9a724c6862e16b0fceb2c03b11d6495f66823883e568255978d51ff40b7ff5af@group.calendar.google.com
END:VEVENT
BEGIN:VEVENT
DTSTART;TZID=America/New_York:20240309T120000
DTEND;TZID=America/New_York:20240309T180000
DTSTAMP:20260425T135946
CREATED:20240104T045016Z
LAST-MODIFIED:20240309T190623Z
UID:10002031-1709985600-1710007200@www.flemingtondiy.org
SUMMARY:lessISmore: Zeitseelen (spirits of time) - Ceramic Sculpture Workshop  for Families & Individuals
DESCRIPTION:  Mixed media miniature sculpture with Simon Keller\, 3pm – 6pm \n                       10 participants max.\, material is provided\, no prior experience needed \n                       Fee: $20.00 per person. \nwww.flemingtondiy.org/lessismore \n\n\nSail deep time\, join the journey! The boat\, a vessel and symbol of traverse\, actually and spiritually. Depicted in epic lore\, our dreams\, used in journeys of discovery\, spiritual rituals\, trade\, warfare and peace\, sportive competition and leisure and warm water puddles after a summer afternoon shower. \nZeitseelen is an inclusive installation of mixed-media miniature sculptures that invitespeople of all ages to create their own boat and join the journey. Our workshop onMarch 9th will give you the opportunity to get involved. \nIn its 10th year zeitseelen has grown to over 50 vessels\, continuously growing. Thiscollab art work was showcased in Germany (2013)\, Japan (2023)\, the US (2017\, 2022) and now here\, Flemington DIY! \nA workshop with Simon Keller for adults and children\, no prior experience needed..We will explore by using only 3 basic materials and simple\, effective techniques tocreate our own\, unique mixed media miniature sculpture. Materials and tools areprovided. \nAdult and Children\, no prior experience needed\, 10 participants max\,.
URL:https://www.flemingtondiy.org/event/lessismore-workshop-for-families-individuals/
END:VEVENT
BEGIN:VEVENT
DTSTART;TZID=America/New_York:20240309T190000
DTEND;TZID=America/New_York:20240309T220000
DTSTAMP:20260425T135946
CREATED:20240223T161832Z
LAST-MODIFIED:20240309T190623Z
UID:10002101-1710010800-1710021600@www.flemingtondiy.org
SUMMARY:Live Music
DESCRIPTION:2/14\n(Pop punk punk trio/NYC)\nNot Yer Baby\n(Dance Punk)\nYoung and Doomed\n(Alt Rock)\nStraight Jacket Feeling\n(Emo)\n$10-15 Donation\nDoors @ 7pm\nNo Drugs/Alcohol
URL:https://www.flemingtondiy.org/event/live-music-51/
END:VEVENT
END:VCALENDAR