BEGIN:VCALENDAR
VERSION:2.0
PRODID:-//Flemington DIY - ECPv6.15.20//NONSGML v1.0//EN
CALSCALE:GREGORIAN
METHOD:PUBLISH
X-ORIGINAL-URL:https://www.flemingtondiy.org
X-WR-CALDESC:Events for Flemington DIY
REFRESH-INTERVAL;VALUE=DURATION:PT1H
X-Robots-Tag:noindex
X-PUBLISHED-TTL:PT1H
BEGIN:VTIMEZONE
TZID:America/New_York
BEGIN:DAYLIGHT
TZOFFSETFROM:-0500
TZOFFSETTO:-0400
TZNAME:EDT
DTSTART:20230312T070000
END:DAYLIGHT
BEGIN:STANDARD
TZOFFSETFROM:-0400
TZOFFSETTO:-0500
TZNAME:EST
DTSTART:20231105T060000
END:STANDARD
BEGIN:DAYLIGHT
TZOFFSETFROM:-0500
TZOFFSETTO:-0400
TZNAME:EDT
DTSTART:20240310T070000
END:DAYLIGHT
BEGIN:STANDARD
TZOFFSETFROM:-0400
TZOFFSETTO:-0500
TZNAME:EST
DTSTART:20241103T060000
END:STANDARD
BEGIN:DAYLIGHT
TZOFFSETFROM:-0500
TZOFFSETTO:-0400
TZNAME:EDT
DTSTART:20250309T070000
END:DAYLIGHT
BEGIN:STANDARD
TZOFFSETFROM:-0400
TZOFFSETTO:-0500
TZNAME:EST
DTSTART:20251102T060000
END:STANDARD
END:VTIMEZONE
BEGIN:VEVENT
DTSTART;TZID=America/New_York:20240229T113000
DTEND;TZID=America/New_York:20240229T180000
DTSTAMP:20260425T184726
CREATED:20240103T045020Z
LAST-MODIFIED:20240229T180550Z
UID:10001975-1709206200-1709229600@www.flemingtondiy.org
SUMMARY:Open Hours
DESCRIPTION:Visit the space\, see our current art show\, hang out\, and learn how to get involved!
URL:https://www.flemingtondiy.org/event/open-hours-73/
END:VEVENT
BEGIN:VEVENT
DTSTART;TZID=America/New_York:20240229T193000
DTEND;TZID=America/New_York:20240229T210000
DTSTAMP:20260425T184726
CREATED:20230624T130550Z
LAST-MODIFIED:20240229T180550Z
UID:10001470-1709235000-1709240400@www.flemingtondiy.org
SUMMARY:Community & Conversation: Keeping our families safe from gun violence in america
DESCRIPTION:Join us as we view 2 short films. Each film uniquely highlights the stunning impact of gun violence within our communities and families.  Afterwards\, you will be invited to share your thoughts and reactions in small groups facilitated by volunteers from Moms Demand Action.  The evening will end with a large group discussion about practical ways community members can become active in the gun violence prevention movement.  This event is free to the public.  \nSponsored by Hunterdon/Somerset Moms Demand Action.   \nhttps://momsdemandaction.org/ \nREGISTER FOR THIS EVENT: https://form.jotform.com/240347953534056
URL:https://www.flemingtondiy.org/event/documentary-screening-community-discussion-gun-violence-in-america-what-can-we-do-about-it/
END:VEVENT
END:VCALENDAR