BEGIN:VCALENDAR
VERSION:2.0
PRODID:-//Flemington DIY - ECPv6.15.20//NONSGML v1.0//EN
CALSCALE:GREGORIAN
METHOD:PUBLISH
X-ORIGINAL-URL:https://www.flemingtondiy.org
X-WR-CALDESC:Events for Flemington DIY
REFRESH-INTERVAL;VALUE=DURATION:PT1H
X-Robots-Tag:noindex
X-PUBLISHED-TTL:PT1H
BEGIN:VTIMEZONE
TZID:America/New_York
BEGIN:DAYLIGHT
TZOFFSETFROM:-0500
TZOFFSETTO:-0400
TZNAME:EDT
DTSTART:20230312T070000
END:DAYLIGHT
BEGIN:STANDARD
TZOFFSETFROM:-0400
TZOFFSETTO:-0500
TZNAME:EST
DTSTART:20231105T060000
END:STANDARD
BEGIN:DAYLIGHT
TZOFFSETFROM:-0500
TZOFFSETTO:-0400
TZNAME:EDT
DTSTART:20240310T070000
END:DAYLIGHT
BEGIN:STANDARD
TZOFFSETFROM:-0400
TZOFFSETTO:-0500
TZNAME:EST
DTSTART:20241103T060000
END:STANDARD
BEGIN:DAYLIGHT
TZOFFSETFROM:-0500
TZOFFSETTO:-0400
TZNAME:EDT
DTSTART:20250309T070000
END:DAYLIGHT
BEGIN:STANDARD
TZOFFSETFROM:-0400
TZOFFSETTO:-0500
TZNAME:EST
DTSTART:20251102T060000
END:STANDARD
END:VTIMEZONE
BEGIN:VEVENT
DTSTART;TZID=America/New_York:20240227T161500
DTEND;TZID=America/New_York:20240227T170000
DTSTAMP:20260425T154336
CREATED:20240223T161830Z
LAST-MODIFIED:20240227T173536Z
UID:10002098-1709050500-1709053200@www.flemingtondiy.org
SUMMARY:Youth Art Club
DESCRIPTION:Creative Whimsies is looking for kids grades 3-8 to join us for After School Art Enrichment classes taught by local artist & certified teacher\, Christine Brandt. \nKids will create unique projects\, and develop their creative thinking skills in a fun\, relaxed atmosphere outside of the school environment. \nLimited spots available! \nSign Up + More info: https://www.flemingtondiy.org/art-club/
URL:https://www.flemingtondiy.org/event/youth-art-club-11/
END:VEVENT
BEGIN:VEVENT
DTSTART;TZID=America/New_York:20240227T180000
DTEND;TZID=America/New_York:20240227T193000
DTSTAMP:20260425T154336
CREATED:20240201T063531Z
LAST-MODIFIED:20240227T173536Z
UID:10002094-1709056800-1709062200@www.flemingtondiy.org
SUMMARY:In Their Shoes: Teens and Dating Violence. Presented by SAFE in Hunterdon
DESCRIPTION:Join SAFE in Hunterdon and Flemington DIY for an in-person\, interactive discussion about dating violence\, unhealthy relationships and what a healthy relationship looks like. Learn how we can help put an end to the cycle of abuse. \nIn Their Shoes: Teens and Dating Violence is a scenario- based training designed to help participants talk about what dating is like for todays teens\, from their perspective. Participants will become teen characters\, make choices about their relationships\, and see what happens. \nPlease visit www.safeinhunterdon.org for details and registration
URL:https://www.flemingtondiy.org/event/in-their-shoes-teens-and-dating-violence-presented-by-safe-in-hunterdon/
END:VEVENT
END:VCALENDAR