BEGIN:VCALENDAR
VERSION:2.0
PRODID:-//Flemington DIY - ECPv6.15.20//NONSGML v1.0//EN
CALSCALE:GREGORIAN
METHOD:PUBLISH
X-ORIGINAL-URL:https://www.flemingtondiy.org
X-WR-CALDESC:Events for Flemington DIY
REFRESH-INTERVAL;VALUE=DURATION:PT1H
X-Robots-Tag:noindex
X-PUBLISHED-TTL:PT1H
BEGIN:VTIMEZONE
TZID:America/New_York
BEGIN:DAYLIGHT
TZOFFSETFROM:-0500
TZOFFSETTO:-0400
TZNAME:EDT
DTSTART:20230312T070000
END:DAYLIGHT
BEGIN:STANDARD
TZOFFSETFROM:-0400
TZOFFSETTO:-0500
TZNAME:EST
DTSTART:20231105T060000
END:STANDARD
BEGIN:DAYLIGHT
TZOFFSETFROM:-0500
TZOFFSETTO:-0400
TZNAME:EDT
DTSTART:20240310T070000
END:DAYLIGHT
BEGIN:STANDARD
TZOFFSETFROM:-0400
TZOFFSETTO:-0500
TZNAME:EST
DTSTART:20241103T060000
END:STANDARD
BEGIN:DAYLIGHT
TZOFFSETFROM:-0500
TZOFFSETTO:-0400
TZNAME:EDT
DTSTART:20250309T070000
END:DAYLIGHT
BEGIN:STANDARD
TZOFFSETFROM:-0400
TZOFFSETTO:-0500
TZNAME:EST
DTSTART:20251102T060000
END:STANDARD
END:VTIMEZONE
BEGIN:VEVENT
DTSTART;TZID=America/New_York:20240225T110000
DTEND;TZID=America/New_York:20240225T120000
DTSTAMP:20260425T154337
CREATED:20240102T043513Z
LAST-MODIFIED:20240224T173547Z
UID:10001965-1708858800-1708862400@www.flemingtondiy.org
SUMMARY:Tap Project
DESCRIPTION:Come one\, come all\, no tap shoes required!\nJoin us Sunday mornings and learn the language of tap dance (what’s a flap? shuffle? buffalo?) plus tap dance history (did you ever wonder who was Fred Astaire’s teacher?).\nWe’ll learn simple warm ups\, then take those steps and do a simple combination\, add a few together\, and hey\, you have a whole dance!\nGreat music\, great fun\, new friends!\nPlease check calendar for upcoming classes!\nJoin the Facebook group!
URL:https://www.flemingtondiy.org/event/tap-project-43/
END:VEVENT
BEGIN:VEVENT
DTSTART;TZID=America/New_York:20240225T190000
DTEND;TZID=America/New_York:20240225T220000
DTSTAMP:20260425T154337
CREATED:20231214T032019Z
LAST-MODIFIED:20240225T173527Z
UID:10001941-1708887600-1708898400@www.flemingtondiy.org
SUMMARY:Live Music
DESCRIPTION:Arklight\n(NYC Minimalist noise rock)\nWest Jersey Airport\n(Noisy psych/hardrock)\nPhil Spectors Gun\n(Philly Hardrock)\n$10-15 Donation @ Door\nDoors @ 7pm\nAll ages\nNo Drugs/Alcohol
URL:https://www.flemingtondiy.org/event/live-music-43/
END:VEVENT
END:VCALENDAR