BEGIN:VCALENDAR
VERSION:2.0
PRODID:-//Flemington DIY - ECPv6.15.20//NONSGML v1.0//EN
CALSCALE:GREGORIAN
METHOD:PUBLISH
X-WR-CALNAME:Flemington DIY
X-ORIGINAL-URL:https://www.flemingtondiy.org
X-WR-CALDESC:Events for Flemington DIY
REFRESH-INTERVAL;VALUE=DURATION:PT1H
X-Robots-Tag:noindex
X-PUBLISHED-TTL:PT1H
BEGIN:VTIMEZONE
TZID:America/New_York
BEGIN:DAYLIGHT
TZOFFSETFROM:-0500
TZOFFSETTO:-0400
TZNAME:EDT
DTSTART:20230312T070000
END:DAYLIGHT
BEGIN:STANDARD
TZOFFSETFROM:-0400
TZOFFSETTO:-0500
TZNAME:EST
DTSTART:20231105T060000
END:STANDARD
BEGIN:DAYLIGHT
TZOFFSETFROM:-0500
TZOFFSETTO:-0400
TZNAME:EDT
DTSTART:20240310T070000
END:DAYLIGHT
BEGIN:STANDARD
TZOFFSETFROM:-0400
TZOFFSETTO:-0500
TZNAME:EST
DTSTART:20241103T060000
END:STANDARD
BEGIN:DAYLIGHT
TZOFFSETFROM:-0500
TZOFFSETTO:-0400
TZNAME:EDT
DTSTART:20250309T070000
END:DAYLIGHT
BEGIN:STANDARD
TZOFFSETFROM:-0400
TZOFFSETTO:-0500
TZNAME:EST
DTSTART:20251102T060000
END:STANDARD
END:VTIMEZONE
BEGIN:VEVENT
DTSTART;TZID=America/New_York:20240126T091500
DTEND;TZID=America/New_York:20240126T113000
DTSTAMP:20260425T170017
CREATED:20240125T060514Z
LAST-MODIFIED:20240126T060515Z
UID:10002081-1706260500-1706268600@www.flemingtondiy.org
SUMMARY:Music Together
DESCRIPTION:Every week in our music classes at Music Together Flemington\, babies\, toddlers\, preschoolers\, and the grownups who love them come together for a time of musical play. Little ones love playing along in class\, and caregivers love being a part of their children’s growth into confident music-makers. And everyone loves our songs that’ll have you tapping along in no time\nLearn more and enroll today: https://www.musictogetherflemington.com/
URL:https://www.flemingtondiy.org/event/music-together-148/
END:VEVENT
BEGIN:VEVENT
DTSTART;TZID=America/New_York:20240126T180000
DTEND;TZID=America/New_York:20240126T200000
DTSTAMP:20260425T170017
CREATED:20231220T033509Z
LAST-MODIFIED:20240126T060515Z
UID:10001946-1706292000-1706299200@www.flemingtondiy.org
SUMMARY:DIY Volunteer Pizza Party & 2024 Vision Planning
DESCRIPTION:Happy New Year! Flemington DIY Volunteers are invited to this pizza party to celebrate the new year and vision plan for 2024. \nWe hope to see you there! Please rsvp to Delfina at volunteerflemingtondiy@gmail.com if you will attend.
URL:https://www.flemingtondiy.org/event/diy-volunteer-pizza-party-2024-vision-planning/
END:VEVENT
END:VCALENDAR