BEGIN:VCALENDAR
VERSION:2.0
PRODID:-//Flemington DIY - ECPv6.15.20//NONSGML v1.0//EN
CALSCALE:GREGORIAN
METHOD:PUBLISH
X-WR-CALNAME:Flemington DIY
X-ORIGINAL-URL:https://www.flemingtondiy.org
X-WR-CALDESC:Events for Flemington DIY
REFRESH-INTERVAL;VALUE=DURATION:PT1H
X-Robots-Tag:noindex
X-PUBLISHED-TTL:PT1H
BEGIN:VTIMEZONE
TZID:America/New_York
BEGIN:DAYLIGHT
TZOFFSETFROM:-0500
TZOFFSETTO:-0400
TZNAME:EDT
DTSTART:20230312T070000
END:DAYLIGHT
BEGIN:STANDARD
TZOFFSETFROM:-0400
TZOFFSETTO:-0500
TZNAME:EST
DTSTART:20231105T060000
END:STANDARD
BEGIN:DAYLIGHT
TZOFFSETFROM:-0500
TZOFFSETTO:-0400
TZNAME:EDT
DTSTART:20240310T070000
END:DAYLIGHT
BEGIN:STANDARD
TZOFFSETFROM:-0400
TZOFFSETTO:-0500
TZNAME:EST
DTSTART:20241103T060000
END:STANDARD
BEGIN:DAYLIGHT
TZOFFSETFROM:-0500
TZOFFSETTO:-0400
TZNAME:EDT
DTSTART:20250309T070000
END:DAYLIGHT
BEGIN:STANDARD
TZOFFSETFROM:-0400
TZOFFSETTO:-0500
TZNAME:EST
DTSTART:20251102T060000
END:STANDARD
END:VTIMEZONE
BEGIN:VEVENT
DTSTART;TZID=America/New_York:20240111T091500
DTEND;TZID=America/New_York:20240111T113000
DTSTAMP:20260425T170017
CREATED:20231104T010512Z
LAST-MODIFIED:20240111T050537Z
UID:10001730-1704964500-1704972600@www.flemingtondiy.org
SUMMARY:Music Together
DESCRIPTION:Every week in our music classes at Music Together Flemington\, babies\, toddlers\, preschoolers\, and the grownups who love them come together for a time of musical play. Little ones love playing along in class\, and caregivers love being a part of their children’s growth into confident music-makers. And everyone loves our songs that’ll have you tapping along in no time \nLearn more and enroll today:https://www.musictogetherflemington.com/
URL:https://www.flemingtondiy.org/event/music-together-136/
ORGANIZER;CN="9a724c6862e16b0fceb2c03b11d6495f66823883e568255978d51ff40b7ff5af@group.calendar.google.com":MAILTO:9a724c6862e16b0fceb2c03b11d6495f66823883e568255978d51ff40b7ff5af@group.calendar.google.com
END:VEVENT
BEGIN:VEVENT
DTSTART;TZID=America/New_York:20240111T113000
DTEND;TZID=America/New_York:20240111T180000
DTSTAMP:20260425T170017
CREATED:20240103T045013Z
LAST-MODIFIED:20240111T050537Z
UID:10001967-1704972600-1704996000@www.flemingtondiy.org
SUMMARY:Open Hours
DESCRIPTION:Visit the space\, see our current art show\, hang out\, and learn how to get involved!
URL:https://www.flemingtondiy.org/event/open-hours-26/
END:VEVENT
BEGIN:VEVENT
DTSTART;TZID=America/New_York:20240111T180000
DTEND;TZID=America/New_York:20240111T200000
DTSTAMP:20260425T170017
CREATED:20231130T030638Z
LAST-MODIFIED:20240111T050537Z
UID:10001927-1704996000-1705003200@www.flemingtondiy.org
SUMMARY:American Sign Language (ASL) Chat
DESCRIPTION:Come sign with us! Join us for an ASL Chat at Flemington DIY at 6pm. Deaf\, hard of hearing\, and hearing people who know or are learning American Sign Language (ASL) are welcome. Please note that this is a voice-off event so all are expected to use ASL to communicate.
URL:https://www.flemingtondiy.org/event/american-sign-language-asl-chat-9/
END:VEVENT
END:VCALENDAR