BEGIN:VCALENDAR
VERSION:2.0
PRODID:-//Flemington DIY - ECPv6.15.20//NONSGML v1.0//EN
CALSCALE:GREGORIAN
METHOD:PUBLISH
X-ORIGINAL-URL:https://www.flemingtondiy.org
X-WR-CALDESC:Events for Flemington DIY
REFRESH-INTERVAL;VALUE=DURATION:PT1H
X-Robots-Tag:noindex
X-PUBLISHED-TTL:PT1H
BEGIN:VTIMEZONE
TZID:America/New_York
BEGIN:DAYLIGHT
TZOFFSETFROM:-0500
TZOFFSETTO:-0400
TZNAME:EDT
DTSTART:20230312T070000
END:DAYLIGHT
BEGIN:STANDARD
TZOFFSETFROM:-0400
TZOFFSETTO:-0500
TZNAME:EST
DTSTART:20231105T060000
END:STANDARD
BEGIN:DAYLIGHT
TZOFFSETFROM:-0500
TZOFFSETTO:-0400
TZNAME:EDT
DTSTART:20240310T070000
END:DAYLIGHT
BEGIN:STANDARD
TZOFFSETFROM:-0400
TZOFFSETTO:-0500
TZNAME:EST
DTSTART:20241103T060000
END:STANDARD
BEGIN:DAYLIGHT
TZOFFSETFROM:-0500
TZOFFSETTO:-0400
TZNAME:EDT
DTSTART:20250309T070000
END:DAYLIGHT
BEGIN:STANDARD
TZOFFSETFROM:-0400
TZOFFSETTO:-0500
TZNAME:EST
DTSTART:20251102T060000
END:STANDARD
END:VTIMEZONE
BEGIN:VEVENT
DTSTART;TZID=America/New_York:20240109T161500
DTEND;TZID=America/New_York:20240109T170000
DTSTAMP:20260425T182922
CREATED:20231130T030637Z
LAST-MODIFIED:20240109T050540Z
UID:10001924-1704816900-1704819600@www.flemingtondiy.org
SUMMARY:Youth Art Club
DESCRIPTION:Creative Whimsies is looking for kids grades 3-8 to join us for After School Art Enrichment classes taught by local artist & certified teacher\, Christine Brandt. \nKids will create unique projects\, and develop their creative thinking skills in a fun\, relaxed atmosphere outside of the school environment. \nLimited spots available! \nSign Up + More info: https://www.flemingtondiy.org/art-club/
URL:https://www.flemingtondiy.org/event/youth-art-club-9/
END:VEVENT
BEGIN:VEVENT
DTSTART;TZID=America/New_York:20240109T193000
DTEND;TZID=America/New_York:20240109T210000
DTSTAMP:20260425T182922
CREATED:20231216T032010Z
LAST-MODIFIED:20240109T050540Z
UID:10001943-1704828600-1704834000@www.flemingtondiy.org
SUMMARY:A History of Political Poster-Making: Watch Party at Flemington DIY – 7:30pm
DESCRIPTION:Join Interference Archive volunteer Declan Sokolska (they/them) as we explore poster-making throughout the 20th and 21st centuries using material from the archive. Declan will overview a basic history of political poster-making and the different techniques that can be used to make posters today. This lecture will support an in-person workshop at Flemington DIY on February 1st where participants will be able to make their own posters inspired by materials from the archive. Interference Archive is a Brooklyn-based and volunteer-run community archive that aims to explore the relationship between cultural production and social movements. Donations appreciated $5-10. \nParticipants can join the watch party live at DIY or join from home on Zoom. Register here to attend: https://docs.google.com/forms/d/e/1FAIpQLSdea5owmPqsuuvl99vMYYde_3x0C3SqclMghQ1yu42hfHVkLA/viewform
URL:https://www.flemingtondiy.org/event/a-history-of-political-poster-making-watch-party-at-flemington-diy-730pm/
END:VEVENT
END:VCALENDAR