BEGIN:VCALENDAR
VERSION:2.0
PRODID:-//Flemington DIY - ECPv6.15.20//NONSGML v1.0//EN
CALSCALE:GREGORIAN
METHOD:PUBLISH
X-ORIGINAL-URL:https://www.flemingtondiy.org
X-WR-CALDESC:Events for Flemington DIY
REFRESH-INTERVAL;VALUE=DURATION:PT1H
X-Robots-Tag:noindex
X-PUBLISHED-TTL:PT1H
BEGIN:VTIMEZONE
TZID:America/New_York
BEGIN:DAYLIGHT
TZOFFSETFROM:-0500
TZOFFSETTO:-0400
TZNAME:EDT
DTSTART:20220313T070000
END:DAYLIGHT
BEGIN:STANDARD
TZOFFSETFROM:-0400
TZOFFSETTO:-0500
TZNAME:EST
DTSTART:20221106T060000
END:STANDARD
BEGIN:DAYLIGHT
TZOFFSETFROM:-0500
TZOFFSETTO:-0400
TZNAME:EDT
DTSTART:20230312T070000
END:DAYLIGHT
BEGIN:STANDARD
TZOFFSETFROM:-0400
TZOFFSETTO:-0500
TZNAME:EST
DTSTART:20231105T060000
END:STANDARD
BEGIN:DAYLIGHT
TZOFFSETFROM:-0500
TZOFFSETTO:-0400
TZNAME:EDT
DTSTART:20240310T070000
END:DAYLIGHT
BEGIN:STANDARD
TZOFFSETFROM:-0400
TZOFFSETTO:-0500
TZNAME:EST
DTSTART:20241103T060000
END:STANDARD
END:VTIMEZONE
BEGIN:VEVENT
DTSTART;TZID=America/New_York:20231216T090000
DTEND;TZID=America/New_York:20231216T150000
DTSTAMP:20260425T182922
CREATED:20231104T010511Z
LAST-MODIFIED:20231216T032032Z
UID:10001726-1702717200-1702738800@www.flemingtondiy.org
SUMMARY:ART SUPPLY THRIFT SALE by Propagate Studios X Flemington DIY
DESCRIPTION:Every creative has that corner in their closet with new art supplies that haven’t met their potential\, maybe used materials from a hobby that hasn’t quite taken off yet. Instead of letting them continue to collect dust or throwing them away\, consider donating them to the Art Supply Thrift Sale. Propagate Studio in Stewartsville\, NJ is bringing their Take What You’ll Use\, Pay What You Can Art Supply Thrift Sale to Flemington DIY! Please check our ‘yes please and no thank you’ list for donations: https://www.propagatestudionj.com/home/artsupplythrift\nAll supplies are PAY WHAT YOU CAN!\nDonations will be accepted on December 9th from 9am-4pm\nSale is 9am-3pm on December 16th.\n$5 entry fee purchased online or at the door. All door fees to support Flemington DIY.
URL:https://www.flemingtondiy.org/event/propagate-studio-art-supply-drive/
END:VEVENT
BEGIN:VEVENT
DTSTART;TZID=America/New_York:20231216T190000
DTEND;TZID=America/New_York:20231216T220000
DTSTAMP:20260425T182922
CREATED:20230906T220522Z
LAST-MODIFIED:20231216T032032Z
UID:10001596-1702753200-1702764000@www.flemingtondiy.org
SUMMARY:Live Jazz CANCELED DUE TO ILLNESS
DESCRIPTION:RioBossa returns to FDIY for a Mardi Gras Christmas!\nPresale: $17 // Doors: $20
URL:https://www.flemingtondiy.org/event/live-jazz/
END:VEVENT
END:VCALENDAR