BEGIN:VCALENDAR
VERSION:2.0
PRODID:-//Flemington DIY - ECPv6.15.20//NONSGML v1.0//EN
CALSCALE:GREGORIAN
METHOD:PUBLISH
X-WR-CALNAME:Flemington DIY
X-ORIGINAL-URL:https://www.flemingtondiy.org
X-WR-CALDESC:Events for Flemington DIY
REFRESH-INTERVAL;VALUE=DURATION:PT1H
X-Robots-Tag:noindex
X-PUBLISHED-TTL:PT1H
BEGIN:VTIMEZONE
TZID:America/New_York
BEGIN:DAYLIGHT
TZOFFSETFROM:-0500
TZOFFSETTO:-0400
TZNAME:EDT
DTSTART:20220313T070000
END:DAYLIGHT
BEGIN:STANDARD
TZOFFSETFROM:-0400
TZOFFSETTO:-0500
TZNAME:EST
DTSTART:20221106T060000
END:STANDARD
BEGIN:DAYLIGHT
TZOFFSETFROM:-0500
TZOFFSETTO:-0400
TZNAME:EDT
DTSTART:20230312T070000
END:DAYLIGHT
BEGIN:STANDARD
TZOFFSETFROM:-0400
TZOFFSETTO:-0500
TZNAME:EST
DTSTART:20231105T060000
END:STANDARD
BEGIN:DAYLIGHT
TZOFFSETFROM:-0500
TZOFFSETTO:-0400
TZNAME:EDT
DTSTART:20240310T070000
END:DAYLIGHT
BEGIN:STANDARD
TZOFFSETFROM:-0400
TZOFFSETTO:-0500
TZNAME:EST
DTSTART:20241103T060000
END:STANDARD
END:VTIMEZONE
BEGIN:VEVENT
DTSTART;TZID=America/New_York:20231215T180000
DTEND;TZID=America/New_York:20231215T200000
DTSTAMP:20260425T182745
CREATED:20231130T030635Z
LAST-MODIFIED:20231215T032026Z
UID:10001919-1702663200-1702670400@www.flemingtondiy.org
SUMMARY:Home for the Holidays: Embracing Joyful Remembrance and Creative Healing
DESCRIPTION:‘Tis the season when grief may quietly settle in. The holidays draw us “home\,” and as we reflect on our home\, the absence of a loved one becomes more poignant\, their physical presence sorely missed. That’s why I’m hosting a special workshop—let’s honor the cherished memories of our loved ones and create a heartfelt addition to your holiday table. Craft personalized plate art that serves as both a meaningful placeholder for those we miss and a poignant addition to a remembrance altar\, embodying the spirit of home. All ages are welcome\, and art supplies will be provided.  \nRSVP via ingridollquist@woundedhealer.love
URL:https://www.flemingtondiy.org/event/home-for-the-holidays-embracing-joyful-remembrance-and-creative-healing/
END:VEVENT
END:VCALENDAR