BEGIN:VCALENDAR
VERSION:2.0
PRODID:-//Flemington DIY - ECPv6.15.20//NONSGML v1.0//EN
CALSCALE:GREGORIAN
METHOD:PUBLISH
X-ORIGINAL-URL:https://www.flemingtondiy.org
X-WR-CALDESC:Events for Flemington DIY
REFRESH-INTERVAL;VALUE=DURATION:PT1H
X-Robots-Tag:noindex
X-PUBLISHED-TTL:PT1H
BEGIN:VTIMEZONE
TZID:America/New_York
BEGIN:DAYLIGHT
TZOFFSETFROM:-0500
TZOFFSETTO:-0400
TZNAME:EDT
DTSTART:20220313T070000
END:DAYLIGHT
BEGIN:STANDARD
TZOFFSETFROM:-0400
TZOFFSETTO:-0500
TZNAME:EST
DTSTART:20221106T060000
END:STANDARD
BEGIN:DAYLIGHT
TZOFFSETFROM:-0500
TZOFFSETTO:-0400
TZNAME:EDT
DTSTART:20230312T070000
END:DAYLIGHT
BEGIN:STANDARD
TZOFFSETFROM:-0400
TZOFFSETTO:-0500
TZNAME:EST
DTSTART:20231105T060000
END:STANDARD
BEGIN:DAYLIGHT
TZOFFSETFROM:-0500
TZOFFSETTO:-0400
TZNAME:EDT
DTSTART:20240310T070000
END:DAYLIGHT
BEGIN:STANDARD
TZOFFSETFROM:-0400
TZOFFSETTO:-0500
TZNAME:EST
DTSTART:20241103T060000
END:STANDARD
END:VTIMEZONE
BEGIN:VEVENT
DTSTART;TZID=America/New_York:20231209T090000
DTEND;TZID=America/New_York:20231209T160000
DTSTAMP:20260425T182918
CREATED:20231104T010510Z
LAST-MODIFIED:20231209T032026Z
UID:10001724-1702112400-1702137600@www.flemingtondiy.org
SUMMARY:ART SUPPLY THRIFT SALE by Propagate Studios X Flemington DIY SUPPLY DROP OFF
DESCRIPTION:Every creative has that corner in their closet with new art supplies that haven’t met their potential\, maybe used materials from a hobby that hasn’t quite taken off yet. Instead of letting them continue to collect dust or throwing them away\, consider donating them to the Art Supply Thrift Sale. Propagate Studio in Stewartsville\, NJ is bringing their Take What You’ll Use\, Pay What You Can Art Supply Thrift Sale to Flemington DIY! Please check our ‘yes please and no thank you’ list for donations: https://www.propagatestudionj.com/home/artsupplythrift\nAll supplies are PAY WHAT YOU CAN!\nDonations will be accepted on December 9th from 9am-4pm\nSale is 9am-3pm on December 16th.\n$5 entry fee purchased online or at the door. All door fees to support Flemington DIY.
URL:https://www.flemingtondiy.org/event/propagate-studio-art-supply-drive-drop-off/
END:VEVENT
BEGIN:VEVENT
DTSTART;TZID=America/New_York:20231209T110000
DTEND;TZID=America/New_York:20231209T160000
DTSTAMP:20260425T182918
CREATED:20231025T010519Z
LAST-MODIFIED:20231209T032026Z
UID:10001661-1702119600-1702137600@www.flemingtondiy.org
SUMMARY:Holiday Makers Market
DESCRIPTION:❄️ Holiday market alert! 🚨\nJoin us for Flemington DIY’s first Makers Market since July. Shop for friends\, family and for the other special folks in your life!\nVendor registration and more info:\nflemingtondiy.org/makersmarket
URL:https://www.flemingtondiy.org/event/holiday-makers-market/
END:VEVENT
BEGIN:VEVENT
DTSTART;TZID=America/New_York:20231209T170000
DTEND;TZID=America/New_York:20231209T200000
DTSTAMP:20260425T182918
CREATED:20231201T030513Z
LAST-MODIFIED:20231209T032026Z
UID:10001932-1702141200-1702152000@www.flemingtondiy.org
SUMMARY:Holigays Potluck
DESCRIPTION:Join the Flemington QTs for a Holiday Potluck on Saturday 12/9 at 5PM at Flemington DIY. Bring a dish to share and come hang out with fellow LGBTQIA+ folks and allies. Whatever you celebrate (and even if you don’t)\, join us for a casual hangout with friends! $10 suggested donation at the door for use of the space.
URL:https://www.flemingtondiy.org/event/holigays-potluck/
END:VEVENT
END:VCALENDAR