BEGIN:VCALENDAR
VERSION:2.0
PRODID:-//Flemington DIY - ECPv6.15.20//NONSGML v1.0//EN
CALSCALE:GREGORIAN
METHOD:PUBLISH
X-ORIGINAL-URL:https://www.flemingtondiy.org
X-WR-CALDESC:Events for Flemington DIY
REFRESH-INTERVAL;VALUE=DURATION:PT1H
X-Robots-Tag:noindex
X-PUBLISHED-TTL:PT1H
BEGIN:VTIMEZONE
TZID:America/New_York
BEGIN:DAYLIGHT
TZOFFSETFROM:-0500
TZOFFSETTO:-0400
TZNAME:EDT
DTSTART:20220313T070000
END:DAYLIGHT
BEGIN:STANDARD
TZOFFSETFROM:-0400
TZOFFSETTO:-0500
TZNAME:EST
DTSTART:20221106T060000
END:STANDARD
BEGIN:DAYLIGHT
TZOFFSETFROM:-0500
TZOFFSETTO:-0400
TZNAME:EDT
DTSTART:20230312T070000
END:DAYLIGHT
BEGIN:STANDARD
TZOFFSETFROM:-0400
TZOFFSETTO:-0500
TZNAME:EST
DTSTART:20231105T060000
END:STANDARD
BEGIN:DAYLIGHT
TZOFFSETFROM:-0500
TZOFFSETTO:-0400
TZNAME:EDT
DTSTART:20240310T070000
END:DAYLIGHT
BEGIN:STANDARD
TZOFFSETFROM:-0400
TZOFFSETTO:-0500
TZNAME:EST
DTSTART:20241103T060000
END:STANDARD
END:VTIMEZONE
BEGIN:VEVENT
DTSTART;TZID=America/New_York:20231202T093000
DTEND;TZID=America/New_York:20231202T120000
DTSTAMP:20260425T182743
CREATED:20231117T015008Z
LAST-MODIFIED:20231202T030525Z
UID:10001903-1701509400-1701518400@www.flemingtondiy.org
SUMMARY:Music Together Jingle Jam Pop Up Classes
DESCRIPTION:
URL:https://www.flemingtondiy.org/event/music-together-jingle-jam-pop-up-classes/
END:VEVENT
BEGIN:VEVENT
DTSTART;TZID=America/New_York:20231202T140000
DTEND;TZID=America/New_York:20231202T160000
DTSTAMP:20260425T182743
CREATED:20231114T013516Z
LAST-MODIFIED:20231202T030525Z
UID:10001898-1701525600-1701532800@www.flemingtondiy.org
SUMMARY:Holiday Card Printmaking Workshop
DESCRIPTION:Spread some handmade holiday cheer this season! Join Flemington DIY on December 2\, 2023 from 2pm-4pm for a Holiday Card Printmaking Workshop! \nParticipants can choose to create and carve their own unique design using a rubber block\, or use one of our pre-made designs! To create an original block design\, participants will utilize a carving tool and a soft rubber block. All materials will be supplied. For more inspiration\, try Googling “block printing” to explore designs and patterns! \nParticipants will receive 5 blank cards & envelopes for printing – you are welcome to bring additional blank cards if you wish to make more. \nThis is an all ages event / no prior experience necessary (volunteers will help you along the way!). Participants must be 14 and older to carve their own rubber block. All children must be supervised by an adult for the duration of the event. \nREGISTRATION REQUIRED: https://form.jotform.com/233127056496156
URL:https://www.flemingtondiy.org/event/holiday-card-printmaking-workshop/
END:VEVENT
BEGIN:VEVENT
DTSTART;TZID=America/New_York:20231202T190000
DTEND;TZID=America/New_York:20231202T220000
DTSTAMP:20260425T182743
CREATED:20231118T015006Z
LAST-MODIFIED:20231202T030525Z
UID:10001907-1701543600-1701554400@www.flemingtondiy.org
SUMMARY:Live Music
DESCRIPTION:Endless Midnight\n(industrial/punk)\nAnkylosaurus\n(heavy bass noise)\nDignitary\n(noise rock)\nArachne Sol\n(dark caberet)\n$10-15 at door\nAll Ages\nNo Drugs/Alcohol
URL:https://www.flemingtondiy.org/event/live-music-36/
END:VEVENT
END:VCALENDAR