BEGIN:VCALENDAR
VERSION:2.0
PRODID:-//Flemington DIY - ECPv6.15.20//NONSGML v1.0//EN
CALSCALE:GREGORIAN
METHOD:PUBLISH
X-WR-CALNAME:Flemington DIY
X-ORIGINAL-URL:https://www.flemingtondiy.org
X-WR-CALDESC:Events for Flemington DIY
REFRESH-INTERVAL;VALUE=DURATION:PT1H
X-Robots-Tag:noindex
X-PUBLISHED-TTL:PT1H
BEGIN:VTIMEZONE
TZID:America/New_York
BEGIN:DAYLIGHT
TZOFFSETFROM:-0500
TZOFFSETTO:-0400
TZNAME:EDT
DTSTART:20220313T070000
END:DAYLIGHT
BEGIN:STANDARD
TZOFFSETFROM:-0400
TZOFFSETTO:-0500
TZNAME:EST
DTSTART:20221106T060000
END:STANDARD
BEGIN:DAYLIGHT
TZOFFSETFROM:-0500
TZOFFSETTO:-0400
TZNAME:EDT
DTSTART:20230312T070000
END:DAYLIGHT
BEGIN:STANDARD
TZOFFSETFROM:-0400
TZOFFSETTO:-0500
TZNAME:EST
DTSTART:20231105T060000
END:STANDARD
BEGIN:DAYLIGHT
TZOFFSETFROM:-0500
TZOFFSETTO:-0400
TZNAME:EDT
DTSTART:20240310T070000
END:DAYLIGHT
BEGIN:STANDARD
TZOFFSETFROM:-0400
TZOFFSETTO:-0500
TZNAME:EST
DTSTART:20241103T060000
END:STANDARD
END:VTIMEZONE
BEGIN:VEVENT
DTSTART;TZID=America/New_York:20231201T093000
DTEND;TZID=America/New_York:20231201T113000
DTSTAMP:20260425T182747
CREATED:20231128T030535Z
LAST-MODIFIED:20231201T030541Z
UID:10001913-1701423000-1701430200@www.flemingtondiy.org
SUMMARY:Music Together
DESCRIPTION:
URL:https://www.flemingtondiy.org/event/music-together-201/
END:VEVENT
BEGIN:VEVENT
DTSTART;TZID=America/New_York:20231201T120000
DTEND;TZID=America/New_York:20231201T140000
DTSTAMP:20260425T182747
CREATED:20230830T220515Z
LAST-MODIFIED:20231201T030541Z
UID:10001591-1701432000-1701439200@www.flemingtondiy.org
SUMMARY:First Fridays: Print Club for Homeschoolers
DESCRIPTION:First Friday of Every Month$15-30 per student\, ages 12-18\nFlemington DIY and Raritan Learning Cooperative are collaborating to offer a monthly print club for kids ages 12-18\, on the first Friday of every month from 11am-1pm. Bring a design and a t-shirt or anything you want to print on. You’ll get to learn the process of screenprinting\, create your own screen\, and print posters and shirts!https://www.flemingtondiy.org/first-fridays/
URL:https://www.flemingtondiy.org/event/first-fridays-print-club-for-homeschoolers-3/
END:VEVENT
BEGIN:VEVENT
DTSTART;TZID=America/New_York:20231201T173000
DTEND;TZID=America/New_York:20231201T203000
DTSTAMP:20260425T182747
CREATED:20230929T230512Z
LAST-MODIFIED:20231201T030541Z
UID:10001646-1701451800-1701462600@www.flemingtondiy.org
SUMMARY:2nd ANNUAL TAKE ME HOME TONIGHT + 24 HRS IN HUNTERDON COUNTY art openings
DESCRIPTION:Take Me Home is a small works show featuring pieces under 10×10 inches that are fun to create and even more exciting to buy! With a ONE NIGHT ONLY Opening Fundraiser Event on Friday\, December 1\, art lovers can snag anonymously hung works of art for KILLER deals. Join us for a fun evening supporting artists and the amazing\, all volunteer-run nonprofit that is Flemington DIY: \nTake Me Home Tonight! \n\n————————————- \nPhoto Capture + Show
URL:https://www.flemingtondiy.org/event/take-me-home-opening/
END:VEVENT
END:VCALENDAR