BEGIN:VCALENDAR
VERSION:2.0
PRODID:-//Flemington DIY - ECPv6.15.20//NONSGML v1.0//EN
CALSCALE:GREGORIAN
METHOD:PUBLISH
X-ORIGINAL-URL:https://www.flemingtondiy.org
X-WR-CALDESC:Events for Flemington DIY
REFRESH-INTERVAL;VALUE=DURATION:PT1H
X-Robots-Tag:noindex
X-PUBLISHED-TTL:PT1H
BEGIN:VTIMEZONE
TZID:America/New_York
BEGIN:DAYLIGHT
TZOFFSETFROM:-0500
TZOFFSETTO:-0400
TZNAME:EDT
DTSTART:20220313T070000
END:DAYLIGHT
BEGIN:STANDARD
TZOFFSETFROM:-0400
TZOFFSETTO:-0500
TZNAME:EST
DTSTART:20221106T060000
END:STANDARD
BEGIN:DAYLIGHT
TZOFFSETFROM:-0500
TZOFFSETTO:-0400
TZNAME:EDT
DTSTART:20230312T070000
END:DAYLIGHT
BEGIN:STANDARD
TZOFFSETFROM:-0400
TZOFFSETTO:-0500
TZNAME:EST
DTSTART:20231105T060000
END:STANDARD
BEGIN:DAYLIGHT
TZOFFSETFROM:-0500
TZOFFSETTO:-0400
TZNAME:EDT
DTSTART:20240310T070000
END:DAYLIGHT
BEGIN:STANDARD
TZOFFSETFROM:-0400
TZOFFSETTO:-0500
TZNAME:EST
DTSTART:20241103T060000
END:STANDARD
END:VTIMEZONE
BEGIN:VEVENT
DTSTART;TZID=America/New_York:20231130T113000
DTEND;TZID=America/New_York:20231130T180000
DTSTAMP:20260425T182743
CREATED:20230920T225027Z
LAST-MODIFIED:20231130T030653Z
UID:10001627-1701343800-1701367200@www.flemingtondiy.org
SUMMARY:Open Hours
DESCRIPTION:stop in\, say hi\, see art\, and learn about DIY!
URL:https://www.flemingtondiy.org/event/open-hours-65/
END:VEVENT
BEGIN:VEVENT
DTSTART;TZID=America/New_York:20231130T180000
DTEND;TZID=America/New_York:20231130T200000
DTSTAMP:20260425T182743
CREATED:20230823T213524Z
LAST-MODIFIED:20231130T030653Z
UID:10001581-1701367200-1701374400@www.flemingtondiy.org
SUMMARY:American Sign Language (ASL) Chat
DESCRIPTION:Come sign with us! Join us for an ASL Chat at Flemington DIY at 6pm. Deaf\, hard of hearing\, and hearing people who know or are learning American Sign Language (ASL) are welcome. Please note that this is a voice-off event so all are expected to use ASL to communicate.
URL:https://www.flemingtondiy.org/event/american-sign-language-asl-chat-8/
END:VEVENT
END:VCALENDAR