BEGIN:VCALENDAR
VERSION:2.0
PRODID:-//Flemington DIY - ECPv6.15.20//NONSGML v1.0//EN
CALSCALE:GREGORIAN
METHOD:PUBLISH
X-WR-CALNAME:Flemington DIY
X-ORIGINAL-URL:https://www.flemingtondiy.org
X-WR-CALDESC:Events for Flemington DIY
REFRESH-INTERVAL;VALUE=DURATION:PT1H
X-Robots-Tag:noindex
X-PUBLISHED-TTL:PT1H
BEGIN:VTIMEZONE
TZID:America/New_York
BEGIN:DAYLIGHT
TZOFFSETFROM:-0500
TZOFFSETTO:-0400
TZNAME:EDT
DTSTART:20220313T070000
END:DAYLIGHT
BEGIN:STANDARD
TZOFFSETFROM:-0400
TZOFFSETTO:-0500
TZNAME:EST
DTSTART:20221106T060000
END:STANDARD
BEGIN:DAYLIGHT
TZOFFSETFROM:-0500
TZOFFSETTO:-0400
TZNAME:EDT
DTSTART:20230312T070000
END:DAYLIGHT
BEGIN:STANDARD
TZOFFSETFROM:-0400
TZOFFSETTO:-0500
TZNAME:EST
DTSTART:20231105T060000
END:STANDARD
BEGIN:DAYLIGHT
TZOFFSETFROM:-0500
TZOFFSETTO:-0400
TZNAME:EDT
DTSTART:20240310T070000
END:DAYLIGHT
BEGIN:STANDARD
TZOFFSETFROM:-0400
TZOFFSETTO:-0500
TZNAME:EST
DTSTART:20241103T060000
END:STANDARD
END:VTIMEZONE
BEGIN:VEVENT
DTSTART;TZID=America/New_York:20231115T090000
DTEND;TZID=America/New_York:20231115T130000
DTSTAMP:20260425T200452
CREATED:20231102T010507Z
LAST-MODIFIED:20231115T013529Z
UID:10001676-1700038800-1700053200@www.flemingtondiy.org
SUMMARY:Gallery Open Hours: "We’re all stuck here\, might as well get along"
DESCRIPTION:Gallery Open Hours. Stop by and check out the latest exhibit on display!More info on the artist & show: https://www.flemingtondiy.org/our-natural-state/
URL:https://www.flemingtondiy.org/event/gallery-open-hours-were-all-stuck-here-might-as-well-get-along-3/
END:VEVENT
BEGIN:VEVENT
DTSTART;TZID=America/New_York:20231115T190000
DTEND;TZID=America/New_York:20231115T200000
DTSTAMP:20260425T200452
CREATED:20231021T003511Z
LAST-MODIFIED:20231115T013529Z
UID:10001660-1700074800-1700078400@www.flemingtondiy.org
SUMMARY:How To: Starting a New Program at DIY
DESCRIPTION:Do you have a skill or topic you want to share with the community? Have you ever wanted to start a community group around a common interest? Flemington DIY accepts proposals for community-oriented classes\, workshops\, and events year around. Most of our programming comes from dedicated volunteers who have a passion for something and have decided to share it with their community. \nThis workshop will go over what is needed to start your own program at DIY and tips for making it a success. This workshop is open to current volunteers and non-volunteers.  \nPlease note: This event is different from our volunteer information session as this will focus solely on program development whereas the information session is an overview of our general volunteer program. \nPLEASE RSVP HERE: https://forms.gle/vt8XzDZ2Tpye3MgH9
URL:https://www.flemingtondiy.org/event/how-to-starting-a-new-program-at-diy/
END:VEVENT
END:VCALENDAR