BEGIN:VCALENDAR
VERSION:2.0
PRODID:-//Flemington DIY - ECPv6.15.20//NONSGML v1.0//EN
CALSCALE:GREGORIAN
METHOD:PUBLISH
X-WR-CALNAME:Flemington DIY
X-ORIGINAL-URL:https://www.flemingtondiy.org
X-WR-CALDESC:Events for Flemington DIY
REFRESH-INTERVAL;VALUE=DURATION:PT1H
X-Robots-Tag:noindex
X-PUBLISHED-TTL:PT1H
BEGIN:VTIMEZONE
TZID:America/New_York
BEGIN:DAYLIGHT
TZOFFSETFROM:-0500
TZOFFSETTO:-0400
TZNAME:EDT
DTSTART:20220313T070000
END:DAYLIGHT
BEGIN:STANDARD
TZOFFSETFROM:-0400
TZOFFSETTO:-0500
TZNAME:EST
DTSTART:20221106T060000
END:STANDARD
BEGIN:DAYLIGHT
TZOFFSETFROM:-0500
TZOFFSETTO:-0400
TZNAME:EDT
DTSTART:20230312T070000
END:DAYLIGHT
BEGIN:STANDARD
TZOFFSETFROM:-0400
TZOFFSETTO:-0500
TZNAME:EST
DTSTART:20231105T060000
END:STANDARD
BEGIN:DAYLIGHT
TZOFFSETFROM:-0500
TZOFFSETTO:-0400
TZNAME:EDT
DTSTART:20240310T070000
END:DAYLIGHT
BEGIN:STANDARD
TZOFFSETFROM:-0400
TZOFFSETTO:-0500
TZNAME:EST
DTSTART:20241103T060000
END:STANDARD
END:VTIMEZONE
BEGIN:VEVENT
DTSTART;TZID=America/New_York:20231028T120000
DTEND;TZID=America/New_York:20231028T200500
DTSTAMP:20260425T213228
CREATED:20230727T140528Z
LAST-MODIFIED:20231028T010520Z
UID:10001493-1698494400-1698523500@www.flemingtondiy.org
SUMMARY:Halloween in The Hall FEST
DESCRIPTION:Halloween in The Hall FEST\nHosted by: Tungsten Beach\nOrganized by: Pow Unki\nShow Organizer:  Joey Gilligan\nWhat’s up Weenies?\nY’all hankering for some Hallowed action?\nI bet you are.\nThis year\, we’re taking the show on the road (werq the world bb\, yass)\nYou can find us getting all types of funky on Saturday\, October 28th\, from 12 PM to 10 PM at:\nFlemington DIY\n26 Stangl Road\, Flemington\, NJ\n(Yes\, Stangl; not strangle.)\nCostumes as well as masks of all sorts are encouraged. Let’s create an accessible space for our immunocompromised friends.\nSnacks\, candy\, and refreshments will be provided\, as supplies last.\n$11.99 early bird special\n$15.00 @ the door\nTake a peek at the deetz\nLIVE PERFORMANCES BY:\nLake Over Fire\nEmerald\nNOWHERE\nGrave Spitter\nStarikova\nSilent Mass\nTungsten Beach\nHover \nLocal Vendors\n(TBA)
URL:https://www.flemingtondiy.org/event/all-day-live-music/
END:VEVENT
BEGIN:VEVENT
DTSTART;TZID=America/New_York:20231028T190000
DTEND;TZID=America/New_York:20231028T210000
DTSTAMP:20260425T213228
CREATED:20230913T222015Z
LAST-MODIFIED:20231028T010520Z
UID:10001607-1698519600-1698526800@www.flemingtondiy.org
SUMMARY:Scared You\, Didn't I? Storytelling Fundraiser Show @ Stangl Stage
DESCRIPTION:Scared You Didn’t I?\, hosted by professional storyteller and playwright Michaela Murphy\, will feature an evening of real people telling real stories that just might scare you silly. This Halloween themed performance features Murphy\, Mike Albo\, David Lee White\, Joey Novick\, and Virginia Heffernan. \nThe performers have been featured in popular storytelling shows like The Moth\, Word of Mouth\, R!SK\, Story Collider\, First Person Arts\, and many more.  \nAll proceeds from this event go to support Flemington DIY’s mission to provide an inclusive art space that engages the community\, inspires social change\, and invigorates the economic development of Flemington. Stangl Factory is located at 50 Stangl Road in Flemington\, NJ\, and is BYOB. \nAdmission\n \n\n$100 for a ticket at a table\n$50 a ticket in general seating\n$25 rush tickets will be available one hour prior to the event\n\nGET TICKETShttps://www.flemingtondiy.org/scaredyou/
URL:https://www.flemingtondiy.org/event/scared-you-didnt-i-storytelling-fundraiser-show-stangl-stage/
LOCATION:Stangl Factory\, 50 Stangl Rd\, Flemington\, NJ 08822\, USA
END:VEVENT
END:VCALENDAR