BEGIN:VCALENDAR
VERSION:2.0
PRODID:-//Flemington DIY - ECPv6.15.20//NONSGML v1.0//EN
CALSCALE:GREGORIAN
METHOD:PUBLISH
X-ORIGINAL-URL:https://www.flemingtondiy.org
X-WR-CALDESC:Events for Flemington DIY
REFRESH-INTERVAL;VALUE=DURATION:PT1H
X-Robots-Tag:noindex
X-PUBLISHED-TTL:PT1H
BEGIN:VTIMEZONE
TZID:America/New_York
BEGIN:DAYLIGHT
TZOFFSETFROM:-0500
TZOFFSETTO:-0400
TZNAME:EDT
DTSTART:20220313T070000
END:DAYLIGHT
BEGIN:STANDARD
TZOFFSETFROM:-0400
TZOFFSETTO:-0500
TZNAME:EST
DTSTART:20221106T060000
END:STANDARD
BEGIN:DAYLIGHT
TZOFFSETFROM:-0500
TZOFFSETTO:-0400
TZNAME:EDT
DTSTART:20230312T070000
END:DAYLIGHT
BEGIN:STANDARD
TZOFFSETFROM:-0400
TZOFFSETTO:-0500
TZNAME:EST
DTSTART:20231105T060000
END:STANDARD
BEGIN:DAYLIGHT
TZOFFSETFROM:-0500
TZOFFSETTO:-0400
TZNAME:EDT
DTSTART:20240310T070000
END:DAYLIGHT
BEGIN:STANDARD
TZOFFSETFROM:-0400
TZOFFSETTO:-0500
TZNAME:EST
DTSTART:20241103T060000
END:STANDARD
END:VTIMEZONE
BEGIN:VEVENT
DTSTART;VALUE=DATE:20230909
DTEND;VALUE=DATE:20230910
DTSTAMP:20260425T231923
CREATED:20230608T122038Z
LAST-MODIFIED:20230909T220525Z
UID:10001424-1694217600-1694303999@www.flemingtondiy.org
SUMMARY:Central Jersey Jazz Fest
DESCRIPTION:5-10PM Rain or Shine.Historic Stangl Road in Flemington’s Artisans District\, Flemington\, NJ \nhttps://centraljerseyjazzfestival.com/somerville_jazz_festival_schedule.html#schedule
URL:https://www.flemingtondiy.org/event/central-jersey-jazz-fest/
END:VEVENT
BEGIN:VEVENT
DTSTART;TZID=America/New_York:20230909T180000
DTEND;TZID=America/New_York:20230909T200000
DTSTAMP:20260425T231923
CREATED:20230823T213516Z
LAST-MODIFIED:20230909T220525Z
UID:10001578-1694282400-1694289600@www.flemingtondiy.org
SUMMARY:Art Cans Opening Reception
DESCRIPTION:
URL:https://www.flemingtondiy.org/event/art-cans-opening-reception/
END:VEVENT
BEGIN:VEVENT
DTSTART;TZID=America/New_York:20230909T183000
DTEND;TZID=America/New_York:20230909T210000
DTSTAMP:20260425T231923
CREATED:20230803T142019Z
LAST-MODIFIED:20230909T220525Z
UID:10001500-1694284200-1694293200@www.flemingtondiy.org
SUMMARY:DIY Fundraiser @ Somerset Patriots Game
DESCRIPTION:See Yankees’ AA affiliate Somerset Patriots while supporting Flemington DIY. A portion of ticket sales bought through this link will benefit FDIY!  \nGET TICKETS!
URL:https://www.flemingtondiy.org/event/diy-fundraiser-somerset-patriots-game/
END:VEVENT
END:VCALENDAR